BEGIN:VCALENDAR
VERSION:2.0
PRODID:-//Contratero//ES
CALSCALE:GREGORIAN
METHOD:PUBLISH
BEGIN:VEVENT
UID:Exp. 60/19@contratero.es
DTSTAMP:20260425T172012Z
DTSTART:20220427T235959
DTEND:20220428T005959
SUMMARY:Cierre: Venta de entradas mediante gestión multicanal (Inf
DESCRIPTION:Venta de entradas mediante gestión multicanal (Informatizada y Online)\\n\\nOrganismo: Junta de Gobierno del Ayuntamiento de Arroyomolinos\\n\\nVer en Contratero: https://contratero.es/contracts/Exp. 60/19
URL:https://contratero.es/contracts/Exp. 60/19
STATUS:CONFIRMED
BEGIN:VALARM
TRIGGER:-P1D
ACTION:DISPLAY
DESCRIPTION:Recordatorio: Venta de entradas mediante ges
END:VALARM
END:VEVENT
END:VCALENDAR